BEGIN:VCALENDAR
VERSION:2.0
PRODID:-//Casa Cava - ECPv6.15.17.1//NONSGML v1.0//EN
CALSCALE:GREGORIAN
METHOD:PUBLISH
X-ORIGINAL-URL:https://www.casacava.it
X-WR-CALDESC:Eventi per Casa Cava
REFRESH-INTERVAL;VALUE=DURATION:PT1H
X-Robots-Tag:noindex
X-PUBLISHED-TTL:PT1H
BEGIN:VTIMEZONE
TZID:Europe/Rome
BEGIN:DAYLIGHT
TZOFFSETFROM:+0100
TZOFFSETTO:+0200
TZNAME:CEST
DTSTART:20180325T010000
END:DAYLIGHT
BEGIN:STANDARD
TZOFFSETFROM:+0200
TZOFFSETTO:+0100
TZNAME:CET
DTSTART:20181028T010000
END:STANDARD
BEGIN:DAYLIGHT
TZOFFSETFROM:+0100
TZOFFSETTO:+0200
TZNAME:CEST
DTSTART:20190331T010000
END:DAYLIGHT
BEGIN:STANDARD
TZOFFSETFROM:+0200
TZOFFSETTO:+0100
TZNAME:CET
DTSTART:20191027T010000
END:STANDARD
BEGIN:DAYLIGHT
TZOFFSETFROM:+0100
TZOFFSETTO:+0200
TZNAME:CEST
DTSTART:20200329T010000
END:DAYLIGHT
BEGIN:STANDARD
TZOFFSETFROM:+0200
TZOFFSETTO:+0100
TZNAME:CET
DTSTART:20201025T010000
END:STANDARD
END:VTIMEZONE
BEGIN:VEVENT
DTSTART;VALUE=DATE:20190901
DTEND;VALUE=DATE:20190909
DTSTAMP:20260423T133859
CREATED:20190821T144217Z
LAST-MODIFIED:20190821T144217Z
UID:16276-1567296000-1567987199@www.casacava.it
SUMMARY:MOSTRA DI PAOLA SACCHI E LUISELLA ABBONDI
DESCRIPTION:FROM PAINTING TO PRINT” \n bi-personale di pittura \nPAOLA SACCHI – LUISELLA ABBONDI \nCasa Cava  \n Via San Pietro Barisano\, 47 \n Matera \n 1/8 SETTEMBRE 2019 \nInaugurazione domenica 1 settembre ore 17.30 \nLa mostra sarà visitabile tutti i giorni \n10:00-13:00  15:30-18:30 \n  \nSarà inaugurata domenica 1 settembre alle ore 17:30 presso Casa Cava via San Pietro Barisano 47 Matera\, la bi-personale di pittura  dal titolo “FROM PAINTING TO PRINT”  opere di Paola Sacchi  e Luisella Abbondi \, testi in catalogo a cura di Marilena Calcara\, Elena Gollini. La mostra è inserita nel progetto “Sense of place” organizzata dall’associazione Culturale RicercArte di Palermo con il patrocinio del Comune di Matera\, Regione Basilicata\, APT Basilicata\, Fondazione Matera 2019. \nVassily Kandinsky diceva che il colore è un mezzo per esercitare un influsso diretto sull’anima così come quello delle opere di Paola Sacchi è una porta per mostrare le pulsioni profonde della vita. \nSulla purezza del fondo bianco infatti si staglia la chiarezza e la vivacità di un colore che colpisce in modo irrazionale. La composizione ha rinunciato al disegno posto a fondamento di tutte le arti in era rinascimentale\, per fare posto ad una struttura che sembra gestita dal colore stesso. Le forme determinano profili che richiamano quelle di foglie viste al microscopio\, rivelano quasi una volontà di ricerca\, il bisogno di cogliere il significato più nascosto delle cose.  Dott.ssa Marilena Calcara. \nLa pittura di Luisella Abbondi si rivolge allo spettatore\, che capace di saper vincere l’impulso istintivo di titubanza e di sconcerto davanti al non convenzionale\, all’inconsueto\, all’atipico\, al diverso\, riuscendo a rapportarsi con l’immagine artistica e “derubricando” le proprie radicate sedimentazioni culturali\, sia pronto ad accogliere e a recepire con mente “purificata” i segni\, le forme\, i colori e la materia\, con cui le opere si sostanziano\, restando catturato da esse e dalla loro genetica sui generis. \nIl suo lavoro intende stimolare la capacità critica dello spettatore: l’esperienza estetica viene concepita come capacità intellettuale\, in cui l’opera si sviluppa a partire dallo stimolo sensoriale per completarsi nella mente del fruitore. \nTra lo spazio fittizio del quadro e quello reale dell’esposizione si instaura un rapporto dialettico che accoglie lo spettatore e lo rende partecipe. Dott.ssa Elena Gollini.
URL:https://www.casacava.it/event/mostra-di-paola-sacchi-e-luisella-abbondi/
CATEGORIES:Art,Exhibition,In evidenza
ATTACH;FMTTYPE=image/jpeg:https://www.casacava.it/new/wp-content/uploads/2019/08/cartolina-sacchi-abbondi-10-x-159703.jpg
END:VEVENT
END:VCALENDAR