BEGIN:VCALENDAR
VERSION:2.0
PRODID:-//Casa Cava - ECPv6.15.17.1//NONSGML v1.0//EN
CALSCALE:GREGORIAN
METHOD:PUBLISH
X-ORIGINAL-URL:https://www.casacava.it
X-WR-CALDESC:Eventi per Casa Cava
REFRESH-INTERVAL;VALUE=DURATION:PT1H
X-Robots-Tag:noindex
X-PUBLISHED-TTL:PT1H
BEGIN:VTIMEZONE
TZID:Europe/Rome
BEGIN:DAYLIGHT
TZOFFSETFROM:+0100
TZOFFSETTO:+0200
TZNAME:CEST
DTSTART:20180325T010000
END:DAYLIGHT
BEGIN:STANDARD
TZOFFSETFROM:+0200
TZOFFSETTO:+0100
TZNAME:CET
DTSTART:20181028T010000
END:STANDARD
BEGIN:DAYLIGHT
TZOFFSETFROM:+0100
TZOFFSETTO:+0200
TZNAME:CEST
DTSTART:20190331T010000
END:DAYLIGHT
BEGIN:STANDARD
TZOFFSETFROM:+0200
TZOFFSETTO:+0100
TZNAME:CET
DTSTART:20191027T010000
END:STANDARD
BEGIN:DAYLIGHT
TZOFFSETFROM:+0100
TZOFFSETTO:+0200
TZNAME:CEST
DTSTART:20200329T010000
END:DAYLIGHT
BEGIN:STANDARD
TZOFFSETFROM:+0200
TZOFFSETTO:+0100
TZNAME:CET
DTSTART:20201025T010000
END:STANDARD
END:VTIMEZONE
BEGIN:VEVENT
DTSTART;VALUE=DATE:20190923
DTEND;VALUE=DATE:20191003
DTSTAMP:20260421T213001
CREATED:20190821T150627Z
LAST-MODIFIED:20190919T102735Z
UID:16282-1569196800-1570060799@www.casacava.it
SUMMARY:MOSTRA COLLETTIVA SENSE OF PLACE
DESCRIPTION:“SENSE OF PLACE” \n mostra d’arte contemporanea \n Casa Cava  \n Via San Pietro Barisano 47 \n Matera \n23 SETTEMBRE – 2 OTTOBRE 2019 \nLa mostra sarà visitabile tutti i giorni \n10:00-13:00  15:30-18:30 \n  \nSarà inaugurata lunedì 23 settembre alle ore 17:30 presso Casa Cava via San Pietro Barisano 47 Matera\, la mostra d’arte contemporanea collettiva dal titolo ”SENSE OF PLACE” testo in catalogo a cura della storica dell’arte Marilena Calcara.  Alla mostra sono stati invitati 25 artisti  che hanno dato il loro contributo al progetto che è finalizzato alla ricerca e alla promozione dell’ arte contemporanea. Si vuole stimolare attraverso il linguaggio dell’arte\, la riflessione sul significato del luogo inteso proprio come esistenza –  essenza. La mostra organizzata dall’associazione Culturale RicercArte di Palermo con il patrocinio del Comune di Matera\, Regione Basilicata\, APT Basilicata\, Fondazione Matera 2019. \nSi vuole stimolare attraverso il linguaggio dell’arte\, la riflessione sul significato del luogo inteso proprio come  esistenza –  essenza . Ed è rispetto al luogo che il progetto può porsi con un atteggiamento in accordo o con un atteggiamento in contrappunto. In accordo quando il luogo è ancora pregnante dei propri intimi caratteri distintivi\, ed in contrappunto quando il progetto è in grado di negare il non-luogo\, ribaltandone la condizione negativa in una condizione positiva \n  \nCONCEPT \nUn concetto che esprime la specificità del rapporto tra l’uomo e il luogo quale suo riferimento identitario\, che si avvicina a quello che i latini chiamano genius loci presente in ogni cultura\, ma che è più visibile dove il legame con il territorio è ancora attivo e si conserva una forte cultura dell’abitare\, legata a processi ereditati di lunga durata. Un territorio che non è considerato un foglio bianco\, ma come un luogo denso di storia\, di segni\, di valori da trasmettere alle generazioni future. La cura e il riutilizzo di ogni cosa\,  nascono da questo dialogo rispettoso fra uomo e ambiente\, visto come una casa ospitale che restituisce dei doni e non come risorsa da sfruttare. Sono questi luoghi il miglior antidoto alla massificazione e all’anonimato dilagante\, autentici baluardi contro il non luogo\, una delle forme più sottili di nichilismo contemporaneo.\n  \nGLI ARTISTI \n ARTURO BARBANTE\, MADDALENA BARLETTA\, ANDREA BERTOLETTI\, MARCO BEVILACQUA\, SARA BIANCHI\, FRANCESCO BOI\, PAOLO BUFFA\, IRENE CARLEVALE\, ALESSANDRO DEGRADO\, FEDERICA TAVIAN FERRIGHI\, PAOLO FERRO\, DESISLAVA GAMBINO\, DIMITRI GAZZIERO\, MARIO GIUBILATO\, NICOLA LISANTI\, MARCO LOTA’\, DANIELA DI LULLO\, CLAUDIA MAESTRANZI\, ROISIN McGUIGAN\, MARIA PIA MICHIELETTO\, FEDERICO POLLONI\, MARIA LAURA RICCOBBONO\, PIETRO SAVIOLI\, FERDINANDO SEGRETI\, AUREA VATTUONE.
URL:https://www.casacava.it/event/mostra-collettiva-sense-of-place/
CATEGORIES:Art,Exhibition,In evidenza
ATTACH;FMTTYPE=image/jpeg:https://www.casacava.it/new/wp-content/uploads/2019/08/cartolina-senseofplace-collettiva-matera-2019-1.jpg
END:VEVENT
BEGIN:VEVENT
DTSTART;VALUE=DATE:20190930
DTEND;VALUE=DATE:20191001
DTSTAMP:20260421T213001
CREATED:20190923T085326Z
LAST-MODIFIED:20190923T085326Z
UID:17410-1569801600-1569887999@www.casacava.it
SUMMARY:State of the art - Fabrizio Bosso
DESCRIPTION:STATE OF THE ART \nlunedì 30 settembre 2019 \nh 21:00 – L’accesso sarà libero su presentazione del Passaporto Matera 2019. \nCasa Cava \nVia S. Pietro Barisano\, 47 Matera (MT) \n  \nFabrizio Bosso Quartet – STATE OF THE ART \nFabrizio Bosso\, Tromba e Flicorno – Julian Oliver Mazzariello\, Pianoforte – Jacopo Ferrazza\, Contrabbasso – Nicola Angelucci\, Batteria \nUna produzione di Umbria Jazz in collaborazione con Intesa Sanpaolo \nLo “State of the Art” di Fabrizio Bosso con il pianista Julian Oliver Mazzariello\, il contrabbassista Jacopo Ferrazza e il batterista Nicola Angelucci si esprime in un dialogo autentico\, forte e pieno di espressività. \nLa sublimazione di un percorso musicale e umano che ne sancisce il successo. Esplorando le infinite possibilità del proprio modo di fare musica\, grazie al confronto costante con i musicisti che ormai da tempo condividono con lui il palco\, Fabrizio Bosso raggiunge la sua più completa e matura espressione artistica\, sia in qualità di musicista che di compositore. Non un punto di arrivo\, ma un nuovo inizio che viene suggellato e rinnovato ogni volta. Durante il concerto\, il trombettista è in grado di trascinare il gruppo e\, nello stesso tempo\, lasciare tutto lo spazio necessario per esprimere le singole personalità\, creando una musica sempre nuova. Nel repertorio\, oltre agli standard e all’improvvisazione\, regina indiscussa di questa formazione\, emerge anche la peculiare cifra compositiva di Bosso che\, sempre riconoscibile\, si esprime in brani originali come Rumba for Kampei\, Mapa\, Black Spirit\, Dizzy’s Blues o Minor Mood. \n«Quando ho deciso di mettere in piedi questo quartetto\, non l’ho fatto pensando a un disco. Avevo piuttosto voglia di ascoltare la mia musica suonata da altri musicisti\, con un’energia e un “colore” che fossero diversi\, freschi. Questo è il suono del mio presente – afferma Fabrizio – e loro sono\, oltre che degli amici\, anche i musicisti che mi appagano di più sul palco\, perché capaci di tirare fuori il suono che ho in testa. Con loro\, il mio grande lusso è che potrei permettermi di non suonare e la musica funzionerebbe ugualmente». \n“State of the Art” è anche il titolo di un doppio album live uscito ad aprile 2017 per la Warner Music e registrato dal vivo durante i concerti del quartetto a Roma\, Tokyo e Verona. Un’istantanea fedele di una fase tra le più felici nella carriera del trombettista\, che ha voluto fissare alcuni momenti memorabili che ora ripropone\, per viverli con rinnovata energia e rivestirli con nuovi colori e sempre nuove idee.
URL:https://www.casacava.it/event/state-of-the-art-fabrizio-bosso/
LOCATION:Casa Cava\, Via san Pietro Barisano\, 47\, Matera\, 75100\, Italia
CATEGORIES:Jazz
ATTACH;FMTTYPE=image/jpeg:https://www.casacava.it/new/wp-content/uploads/2019/09/Bosso-Quartet.jpg
END:VEVENT
END:VCALENDAR