BEGIN:VCALENDAR
VERSION:2.0
PRODID:-//Casa Cava - ECPv6.15.17.1//NONSGML v1.0//EN
CALSCALE:GREGORIAN
METHOD:PUBLISH
X-ORIGINAL-URL:https://www.casacava.it
X-WR-CALDESC:Eventi per Casa Cava
REFRESH-INTERVAL;VALUE=DURATION:PT1H
X-Robots-Tag:noindex
X-PUBLISHED-TTL:PT1H
BEGIN:VTIMEZONE
TZID:Europe/Rome
BEGIN:DAYLIGHT
TZOFFSETFROM:+0100
TZOFFSETTO:+0200
TZNAME:CEST
DTSTART:20180325T010000
END:DAYLIGHT
BEGIN:STANDARD
TZOFFSETFROM:+0200
TZOFFSETTO:+0100
TZNAME:CET
DTSTART:20181028T010000
END:STANDARD
BEGIN:DAYLIGHT
TZOFFSETFROM:+0100
TZOFFSETTO:+0200
TZNAME:CEST
DTSTART:20190331T010000
END:DAYLIGHT
BEGIN:STANDARD
TZOFFSETFROM:+0200
TZOFFSETTO:+0100
TZNAME:CET
DTSTART:20191027T010000
END:STANDARD
BEGIN:DAYLIGHT
TZOFFSETFROM:+0100
TZOFFSETTO:+0200
TZNAME:CEST
DTSTART:20200329T010000
END:DAYLIGHT
BEGIN:STANDARD
TZOFFSETFROM:+0200
TZOFFSETTO:+0100
TZNAME:CET
DTSTART:20201025T010000
END:STANDARD
END:VTIMEZONE
BEGIN:VEVENT
DTSTART;VALUE=DATE:20191027
DTEND;VALUE=DATE:20191028
DTSTAMP:20260423T121415
CREATED:20191021T145209Z
LAST-MODIFIED:20191021T145209Z
UID:18814-1572134400-1572220799@www.casacava.it
SUMMARY:Daniel Karlsson Trio | Gezziamoci Uinter 2019
DESCRIPTION:“DANIEL KARLSSON TRIO | GEZZIAMOCI UINTER 2019” \nConcerto Jazz \n Casa Cava  \n Via San Pietro Barisano 47 \n Matera \n27 OTTOBRE 2019 \nOrario d’ingresso: ore 20.30 \nBiglietto d’ingresso: 10 euro \nDaniel Karlsson Trio live a Casa Cava\, Matera il 27 Ottobre 2019:\nDaniel Karlsson – pianoforte e tastiere\nChristian Spering – contrabbasso\, violoncello\, dilruba e tar shehnai\nFredrik Rundqvist – batteria e percussioni \nIl Daniel Karlsson Trio si è \,sin dal loro album di debutto “Das Taxibat” pubblicato nel settembre 2013\, stabilito come una delle più interessanti formazione nel panorama jazzistico svedese ed europeo. Altrento importante il loro 2° album\, dal titolo “Fusion for Fish”\, pubblicato nell’ agosto 2014. Quest’ album ha vinto diversi premi\, tra cui\, lo Swedish Radio’s Jazz Group of the Year Award 2014\, lo Swedish jazz magazine OJ’s Golden Disc 2015 e lo Swedish Jazz Grammy 2015. Successivamente il loro successo ha varcato i confini nazionali conquistando anche il pubblico tedesco\, inglese ed irlandese. \nIl loro 3°\, “At the Feel Free Falafel”\, album ha anch’esso attirato l’attenzione della critica e della radio.\nLa loro 4° pubblicazione “Ding Dong” è stata nominata per lo Swedish Grammy Award come miglior album Jazz del 2018. Il loro 5°\, dal titolo “No. 5” è stato pubblicato nel marzo 2018.\nIl loro 6° album è uscito su tutte la piattaforme in data 11 ottobre 2019 e contiene un brano dedicato alla città di Matera\, dal titolo Colorful Grey (Song for Matera). \nPrima del concerto\, alle ore 20\,00 degustazione di vini Matera DOC a cura dell’azienda Battifarano\, prenotazione consigliata 3291133910. \n  \nPrevendite disponibili a Matera: \n* FERULA VIAGGI\nVia Cappelluti\, 34 – Matera – Tel. 0835.336572 \n* CARTOLERIA MONTEMURRO (diritti di prevendita)\nVia delle Beccherie\, 69 – Matera – Tel. 0835.333411 \n* LIBRERIA MONDADORI\nPiazza Vittorio Veneto\, 16B – Matera – Tel. 0835.344062 \n* AMBARABÀ\nVia Cappelluti\, 9 – Matera \n* CASA CAVA\nVia S. Pietro Barisano – Matera – Tel. 0835.336733
URL:https://www.casacava.it/event/daniel-karlsson-trio-gezziamoci-uinter-2019/
LOCATION:Casa Cava\, Via san Pietro Barisano\, 47\, Matera\, 75100\, Italia
CATEGORIES:Jazz
ATTACH;FMTTYPE=image/jpeg:https://www.casacava.it/new/wp-content/uploads/2019/10/72714626_10156340176390025_8052343182056226816_n.jpg
END:VEVENT
BEGIN:VEVENT
DTSTART;VALUE=DATE:20190930
DTEND;VALUE=DATE:20191001
DTSTAMP:20260423T121415
CREATED:20190923T085326Z
LAST-MODIFIED:20190923T085326Z
UID:17410-1569801600-1569887999@www.casacava.it
SUMMARY:State of the art - Fabrizio Bosso
DESCRIPTION:STATE OF THE ART \nlunedì 30 settembre 2019 \nh 21:00 – L’accesso sarà libero su presentazione del Passaporto Matera 2019. \nCasa Cava \nVia S. Pietro Barisano\, 47 Matera (MT) \n  \nFabrizio Bosso Quartet – STATE OF THE ART \nFabrizio Bosso\, Tromba e Flicorno – Julian Oliver Mazzariello\, Pianoforte – Jacopo Ferrazza\, Contrabbasso – Nicola Angelucci\, Batteria \nUna produzione di Umbria Jazz in collaborazione con Intesa Sanpaolo \nLo “State of the Art” di Fabrizio Bosso con il pianista Julian Oliver Mazzariello\, il contrabbassista Jacopo Ferrazza e il batterista Nicola Angelucci si esprime in un dialogo autentico\, forte e pieno di espressività. \nLa sublimazione di un percorso musicale e umano che ne sancisce il successo. Esplorando le infinite possibilità del proprio modo di fare musica\, grazie al confronto costante con i musicisti che ormai da tempo condividono con lui il palco\, Fabrizio Bosso raggiunge la sua più completa e matura espressione artistica\, sia in qualità di musicista che di compositore. Non un punto di arrivo\, ma un nuovo inizio che viene suggellato e rinnovato ogni volta. Durante il concerto\, il trombettista è in grado di trascinare il gruppo e\, nello stesso tempo\, lasciare tutto lo spazio necessario per esprimere le singole personalità\, creando una musica sempre nuova. Nel repertorio\, oltre agli standard e all’improvvisazione\, regina indiscussa di questa formazione\, emerge anche la peculiare cifra compositiva di Bosso che\, sempre riconoscibile\, si esprime in brani originali come Rumba for Kampei\, Mapa\, Black Spirit\, Dizzy’s Blues o Minor Mood. \n«Quando ho deciso di mettere in piedi questo quartetto\, non l’ho fatto pensando a un disco. Avevo piuttosto voglia di ascoltare la mia musica suonata da altri musicisti\, con un’energia e un “colore” che fossero diversi\, freschi. Questo è il suono del mio presente – afferma Fabrizio – e loro sono\, oltre che degli amici\, anche i musicisti che mi appagano di più sul palco\, perché capaci di tirare fuori il suono che ho in testa. Con loro\, il mio grande lusso è che potrei permettermi di non suonare e la musica funzionerebbe ugualmente». \n“State of the Art” è anche il titolo di un doppio album live uscito ad aprile 2017 per la Warner Music e registrato dal vivo durante i concerti del quartetto a Roma\, Tokyo e Verona. Un’istantanea fedele di una fase tra le più felici nella carriera del trombettista\, che ha voluto fissare alcuni momenti memorabili che ora ripropone\, per viverli con rinnovata energia e rivestirli con nuovi colori e sempre nuove idee.
URL:https://www.casacava.it/event/state-of-the-art-fabrizio-bosso/
LOCATION:Casa Cava\, Via san Pietro Barisano\, 47\, Matera\, 75100\, Italia
CATEGORIES:Jazz
ATTACH;FMTTYPE=image/jpeg:https://www.casacava.it/new/wp-content/uploads/2019/09/Bosso-Quartet.jpg
END:VEVENT
BEGIN:VEVENT
DTSTART;TZID=Europe/Rome:20190929T203000
DTEND;TZID=Europe/Rome:20190929T233000
DTSTAMP:20260423T121415
CREATED:20190923T143437Z
LAST-MODIFIED:20190923T143504Z
UID:17439-1569789000-1569799800@www.casacava.it
SUMMARY:Concerto Gianfranco Menzella Quartet - Gezziamoci 2019
DESCRIPTION:“GIANFRANCO MENZELLA QUARTET” \nConcerto \n Casa Cava  \n Via San Pietro Barisano 47 \n Matera \n29 SETTEMBRE 2019 \nOrario d’ingresso: ore 20.30 \nBiglietto d’ingresso: 10 euro \n  \nGianfranco Menzella Quartet: \nGianfranco Menzella (Sax Tenore)\nBruno Montrone (Piano)\nGiuseppe Bassi (Contrabbasso)\nGiovanni Scasciamacchia (Batteria)\nSpecial guest Joe Magnarelli (Tromba) \n“Double face” è l’ultimo lavoro di Gianfranco menzella. Sei brani\, tra cui due composizioni originali\, in cui si integrano perfettamente il be-bop e l’hard bop\, le due “facce” del sassofonista. Il disco vede la presenza di uno dei più influenti trombettisti della scena newyorchese: Joe Magnarelli. \n  \nPrevendite disponibili a Matera: \n* FERULA VIAGGI\nVia Cappelluti\, 34 – Matera – Tel. 0835.336572 \n* CARTOLERIA MONTEMURRO (diritti di prevendita)\nVia delle Beccherie\, 69 – Matera – Tel. 0835.333411 \n* LIBRERIA MONDADORI\nPiazza Vittorio Veneto\, 16B – Matera – Tel. 0835.344062 \n* AMBARABÀ\nVia Cappelluti\, 9 – Matera \n* CASA CAVA\nVia S. Pietro Barisano – Matera – Tel. 0835.336733 \n 
URL:https://www.casacava.it/event/concerto-gianfranco-menzella-quartet-gezziamoci-2019/
LOCATION:Casa Cava\, Via san Pietro Barisano\, 47\, Matera\, 75100\, Italia
CATEGORIES:Jazz
ATTACH;FMTTYPE=image/jpeg:https://www.casacava.it/new/wp-content/uploads/2019/09/gezziamoci.jpg
ORGANIZER;CN="Onyx Jazz Club":MAILTO:info@onyxjazzclub.it
END:VEVENT
BEGIN:VEVENT
DTSTART;VALUE=DATE:20190923
DTEND;VALUE=DATE:20190925
DTSTAMP:20260423T121415
CREATED:20190923T083533Z
LAST-MODIFIED:20190923T083533Z
UID:17405-1569196800-1569369599@www.casacava.it
SUMMARY:Suoni del Futuro Remoto\, Prove aperte - Paolo Fresu e Collettivo Onyx Jazz Club
DESCRIPTION:“Suoni del Futuro Remoto” \nProve aperte – Paolo Fresu e Collettivo Onyx Jazz Club \nDirezione: Joe Johnson \nVideoArt: Massimo Ottoni \nCasa Cava  \n Via San Pietro Barisano\, 47 \n Matera \n 23 – 24 SETTEMBRE 2019 \nIngresso dalle ore 16\, con passaporto Matera2019 fino a esaurimento posti. Riservato a 50 persone. \n  \n“Suoni del Futuro Remoto” è un progetto di Matera Capitale Europea della Cultura 2019. \n“Suoni del Futuro Remoto\, Gezziamoci Festival” vuole presentare all’Europa il racconto di Matera\, attraverso l’esplorazione della sua acustica\, dei suoi suoni e delle sue tradizioni. E’ un progetto cross disciplinare rivolto alla ricerca e alla produzione d’avanguardia nel campo delle arti sonore. In questo campo espressivo\, si vogliono comprendere diversi linguaggi\, dalla musica\, all’installazione sonora\, dalla performance dal vivo\, ai lavori di fieldrecording e di soundscaping. Il prodotto ultimo sarà un concerto per partitura per suoni naturali eseguito dal Collettivo Onyx e dal quintetto di Paolo Fresu. \nLa capacità di costruire un futuro\, soprattutto per le giovani generazioni\, riportato nel claim “Open Future”\, si coniuga attraverso la conoscenza della storia e delle tradizioni di un territorio. Il Progetto è una scommessa tra questo binomio: tener conto delle tradizioni per camminare nel futuro. Le parole chiavi del Progetto sono: collaborazione\, attraverso una rete internazionale di professionisti; generosità\, coinvolgimento della cittadinanza; lentezza\, attraverso l’analisi dei suoni; fiducia\, creazione di una community lucana. \nIl progetto racconta di un angolo particolare del Sud del Mediterraneo che\, attraverso le sue peculiarità (paesaggio\, storia\, natura\, tradizioni\, suoni e lentezza)\, diviene patrimonio collettivo. A questo processo\, partecipano\, in egual misura\, figure professionali provenienti da varie zone dell’Europa e non solo le quali diventano portavoce di un processo che può raccontare il passato guardando al futuro.
URL:https://www.casacava.it/event/suoni-del-futuro-remoto-prove-aperte-paolo-fresu-e-collettivo-onyx-jazz-club/
LOCATION:Casa Cava\, Via san Pietro Barisano\, 47\, Matera\, 75100\, Italia
CATEGORIES:Jazz
ATTACH;FMTTYPE=image/png:https://www.casacava.it/new/wp-content/uploads/2019/09/3b043f_8a1695a0c32c4205bf294ffe5ebf1c6d_mv2.png
ORGANIZER;CN="Onyx Jazz Club":MAILTO:info@onyxjazzclub.it
END:VEVENT
BEGIN:VEVENT
DTSTART;TZID=Europe/Rome:20190430T203000
DTEND;TZID=Europe/Rome:20190430T223000
DTSTAMP:20260423T121415
CREATED:20190429T110937Z
LAST-MODIFIED:20190506T093226Z
UID:15882-1556656200-1556663400@www.casacava.it
SUMMARY:Gezziamoci2019
DESCRIPTION:In occasione dell’International Jazz Day si apre la  rassegna #Gezziamoci2019 ! \nMassimiliano Milesi OOFTH:\nMassimiliano Milesi – tenor sax\, composition Emanuele Maniscalco – synth\nGiacomo Papetti – bass guitar\nFilippo Sala – drums \n\nL’evento sarà supportato da una nuova edizione di “Il Jazz in Vetrina”. Verranno allestite a tema “Jazz” circa 10 vetrine nel centro storico di Matera creando un percorso turistico caratterizzato dagli strumenti\, i libri\, i vinili e i suoni che caratterizzano il mondo del “Jazz”. Per l’evento è stato coinvolto il Liceo Artistico “Carlo Levi” di Matera. Le vetrine resteranno allestite dal 27 Aprile al 3 Maggio. \nINGRESSO CONCERTO: 5 euro
URL:https://www.casacava.it/event/gezziamoci2019/
LOCATION:Casa Cava\, Via san Pietro Barisano\, 47\, Matera\, 75100\, Italia
CATEGORIES:Jazz
ATTACH;FMTTYPE=image/jpeg:https://www.casacava.it/new/wp-content/uploads/2019/04/gezziamoci2019.jpg
ORGANIZER;CN="Onyx Jazz Club":MAILTO:info@onyxjazzclub.it
END:VEVENT
END:VCALENDAR