BEGIN:VCALENDAR
VERSION:2.0
PRODID:-//Casa Cava - ECPv6.15.17.1//NONSGML v1.0//EN
CALSCALE:GREGORIAN
METHOD:PUBLISH
X-ORIGINAL-URL:https://www.casacava.it
X-WR-CALDESC:Eventi per Casa Cava
REFRESH-INTERVAL;VALUE=DURATION:PT1H
X-Robots-Tag:noindex
X-PUBLISHED-TTL:PT1H
BEGIN:VTIMEZONE
TZID:Europe/Rome
BEGIN:DAYLIGHT
TZOFFSETFROM:+0100
TZOFFSETTO:+0200
TZNAME:CEST
DTSTART:20180325T010000
END:DAYLIGHT
BEGIN:STANDARD
TZOFFSETFROM:+0200
TZOFFSETTO:+0100
TZNAME:CET
DTSTART:20181028T010000
END:STANDARD
BEGIN:DAYLIGHT
TZOFFSETFROM:+0100
TZOFFSETTO:+0200
TZNAME:CEST
DTSTART:20190331T010000
END:DAYLIGHT
BEGIN:STANDARD
TZOFFSETFROM:+0200
TZOFFSETTO:+0100
TZNAME:CET
DTSTART:20191027T010000
END:STANDARD
BEGIN:DAYLIGHT
TZOFFSETFROM:+0100
TZOFFSETTO:+0200
TZNAME:CEST
DTSTART:20200329T010000
END:DAYLIGHT
BEGIN:STANDARD
TZOFFSETFROM:+0200
TZOFFSETTO:+0100
TZNAME:CET
DTSTART:20201025T010000
END:STANDARD
BEGIN:DAYLIGHT
TZOFFSETFROM:+0100
TZOFFSETTO:+0200
TZNAME:CEST
DTSTART:20210328T010000
END:DAYLIGHT
BEGIN:STANDARD
TZOFFSETFROM:+0200
TZOFFSETTO:+0100
TZNAME:CET
DTSTART:20211031T010000
END:STANDARD
BEGIN:DAYLIGHT
TZOFFSETFROM:+0100
TZOFFSETTO:+0200
TZNAME:CEST
DTSTART:20220327T010000
END:DAYLIGHT
BEGIN:STANDARD
TZOFFSETFROM:+0200
TZOFFSETTO:+0100
TZNAME:CET
DTSTART:20221030T010000
END:STANDARD
BEGIN:DAYLIGHT
TZOFFSETFROM:+0100
TZOFFSETTO:+0200
TZNAME:CEST
DTSTART:20230326T010000
END:DAYLIGHT
BEGIN:STANDARD
TZOFFSETFROM:+0200
TZOFFSETTO:+0100
TZNAME:CET
DTSTART:20231029T010000
END:STANDARD
BEGIN:DAYLIGHT
TZOFFSETFROM:+0100
TZOFFSETTO:+0200
TZNAME:CEST
DTSTART:20240331T010000
END:DAYLIGHT
BEGIN:STANDARD
TZOFFSETFROM:+0200
TZOFFSETTO:+0100
TZNAME:CET
DTSTART:20241027T010000
END:STANDARD
END:VTIMEZONE
BEGIN:VEVENT
DTSTART;TZID=Europe/Rome:20230304T183000
DTEND;TZID=Europe/Rome:20230304T203000
DTSTAMP:20260421T195310
CREATED:20230217T095617Z
LAST-MODIFIED:20230217T095617Z
UID:28915-1677954600-1677961800@www.casacava.it
SUMMARY:BLA BLA BLA SUD
DESCRIPTION:Perché il Sud è rimasto indietro? È possibile un rilancio del sud senza modificare la centralità logistica\, amministrativa e politica del Mezzogiorno e del Mediterraneo? De Sarlo inizia un ragionamento da fare per progettare un futuro diverso e migliore\, con stile semplice e diretto\, ricco di esempi e riscontri. Nella prima parte troviamo una disamina tra miti\, pregiudizi e realtà sulla situazione meridionale. Nella seconda parte propone una soluzione per uno sviluppo possibile per colmare i gap che ancora esistono.
URL:https://www.casacava.it/event/bla-bla-bla-sud/
LOCATION:Casa Cava\, Via san Pietro Barisano\, 47\, Matera\, 75100\, Italia
CATEGORIES:In evidenza,Presentazione
ATTACH;FMTTYPE=image/jpeg:https://www.casacava.it/new/wp-content/uploads/2023/02/index-1.jpg
END:VEVENT
BEGIN:VEVENT
DTSTART;TZID=Europe/Rome:20220506T183000
DTEND;TZID=Europe/Rome:20220506T200000
DTSTAMP:20260421T195310
CREATED:20220502T154306Z
LAST-MODIFIED:20220502T154306Z
UID:28619-1651861800-1651867200@www.casacava.it
SUMMARY:Gianluca Vialli
DESCRIPTION:Presentazione del libro “Goals. 98 storie + 1 per affrontare le sfide più difficili”\n\n\nVenerdì 6 maggio 2022 alle ore 18.30\, a Casa Cava\, a Matera\, Gianluca Vialli sarà ospite della Fondazione Francesca Divella.\n\n\nNon è un’autobiografia e nemmeno un semplice libro di imprese sportive altrui\, ma un originale manuale di ispirazione e meditazione dal taglio motivazionale. Perché ciascuno ha dei goals\, degli obiettivi da raggiungere”.\n\n\nL’invito rivolto a Vialli dalla Fondazione Francesca Divella è legato proprio al tema delle sfide cui spesso nella vita si è sottoposti\, anche per affrontare e superare una malattia.
URL:https://www.casacava.it/event/gianluca-vialli/
LOCATION:Casa Cava\, Via san Pietro Barisano\, 47\, Matera\, 75100\, Italia
CATEGORIES:In evidenza,Presentazione
ATTACH;FMTTYPE=image/jpeg:https://www.casacava.it/new/wp-content/uploads/2022/05/gianluca-vialli-1.jpg
END:VEVENT
BEGIN:VEVENT
DTSTART;VALUE=DATE:20210719
DTEND;VALUE=DATE:20210720
DTSTAMP:20260421T195310
CREATED:20210713T140935Z
LAST-MODIFIED:20210713T141201Z
UID:28232-1626652800-1626739199@www.casacava.it
SUMMARY:Pax&Lux
DESCRIPTION:Con la Signora della Pace. \nEvento dedicato alla pace tra i popoli. \n19 luglio Casa Cava \nore 18.00 \n 
URL:https://www.casacava.it/event/paxlux/
LOCATION:Casa Cava\, Via san Pietro Barisano\, 47\, Matera\, 75100\, Italia
CATEGORIES:Conference,Exhibition,In evidenza,Presentazione
ATTACH;FMTTYPE=image/jpeg:https://www.casacava.it/new/wp-content/uploads/2021/07/208909609_832978864015844_6717698136098486642_n.jpg
END:VEVENT
BEGIN:VEVENT
DTSTART;TZID=Europe/Rome:20200925T190000
DTEND;TZID=Europe/Rome:20200925T203000
DTSTAMP:20260421T195310
CREATED:20200917T105108Z
LAST-MODIFIED:20200917T105403Z
UID:27844-1601060400-1601065800@www.casacava.it
SUMMARY:IL GRANDE FRATELLO E IL WEB NASCOSTO. Controllo e sorveglianza in rete
DESCRIPTION:Il Grande Fratello e il Web nascosto\ncontrollo e sorveglianza in rete\n25.09\n2020\n19:00\nMatera\nCasa Cava\nvia S.Pietro Barisano\, 47 \nIncontro con l’autore*\nGiuseppe Balena \nIn questi mesi in cui abbiamo trasferito gran parte delle nostre relazioni nella rete alcune\nquestioni sono emerse o riemerse con estrema evidenza.\nQuali sono i segreti di Internet? Che cosa nasconde realmente il web? Quanto la rete\ninfluenza l’invenzione del nostro presente? \nIntroduce e coordina Nicola Palermo\, Onyx Libro Presìdio del libro di Matera \n  \nLa 16^ edizione della festa dei lettori è dedicata a L’invenzione del presente\, tema che sarà il filo conduttore delle prossime attività dei Presìdi del Libro. In collaborazione con il Presìdio del libro di Ferrandina.
URL:https://www.casacava.it/event/il-grande-fratello-e-il-web-nascosto-controllo-e-sorveglianza-in-rete/
LOCATION:Casa Cava\, Via san Pietro Barisano\, 47\, Matera\, 75100\, Italia
CATEGORIES:In evidenza,Presentazione
ATTACH;FMTTYPE=image/jpeg:https://www.casacava.it/new/wp-content/uploads/2020/09/119704487_666686053963491_4327397130026184676_o.jpg
ORGANIZER;CN="Onyx Jazz Club":MAILTO:info@onyxjazzclub.it
END:VEVENT
BEGIN:VEVENT
DTSTART;VALUE=DATE:20200215
DTEND;VALUE=DATE:20200216
DTSTAMP:20260421T195311
CREATED:20200125T155508Z
LAST-MODIFIED:20200125T155508Z
UID:23611-1581724800-1581811199@www.casacava.it
SUMMARY:I GIORNI DELLA MUSICA E DELLE ROSE
DESCRIPTION:Matera venerdì 14 febbraio Casa Cava ore 19.00 \nI GIORNI DELLA MUSICA E DELLE ROSE\nRock\, pop\, jazz\, soul\, blues nel vortice del ‘68\ndi e con FRANCO BERGOGLIO \nA cura di OnyxLibro
URL:https://www.casacava.it/event/i-giorni-della-musica-e-delle-rose/
LOCATION:Casa Cava\, Via san Pietro Barisano\, 47\, Matera\, 75100\, Italia
CATEGORIES:In evidenza,Jazz,Presentazione
ATTACH;FMTTYPE=image/jpeg:https://www.casacava.it/new/wp-content/uploads/2020/01/83391812_10156577580730025_8936108883043155968_o.jpg
ORGANIZER;CN="Onyx Jazz Club":MAILTO:info@onyxjazzclub.it
END:VEVENT
BEGIN:VEVENT
DTSTART;VALUE=DATE:20200214
DTEND;VALUE=DATE:20200215
DTSTAMP:20260421T195311
CREATED:20200125T155008Z
LAST-MODIFIED:20200125T155008Z
UID:23606-1581638400-1581724799@www.casacava.it
SUMMARY:SASSOFONI E PISTOLE
DESCRIPTION:Venerdì 14 febbraio Casa Cava ore 19.00 \nPresentazione del volume di FRANCO BERGOGLIO\nSASSOFONI E PISTOLE\nStoria delle relazioni pericolose tra jazz e romanzo poliziesco\ndialoga con l’autore Giuseppe Romaniello. Kevin Grieco\, chitarra\, Pepi Romaniello sax\, Rossella Palagano\, voce \nA cura di OnyxLibro
URL:https://www.casacava.it/event/sassofoni-e-pistole/
LOCATION:Casa Cava\, Via san Pietro Barisano\, 47\, Matera\, 75100\, Italia
CATEGORIES:In evidenza,Jazz,Presentazione
ATTACH;FMTTYPE=image/jpeg:https://www.casacava.it/new/wp-content/uploads/2020/01/82812051_10156593704435025_4944001446438764544_n.jpg
ORGANIZER;CN="Onyx Jazz Club":MAILTO:info@onyxjazzclub.it
END:VEVENT
BEGIN:VEVENT
DTSTART;TZID=Europe/Rome:20191023T180000
DTEND;TZID=Europe/Rome:20191023T200000
DTSTAMP:20260421T195311
CREATED:20191021T143600Z
LAST-MODIFIED:20191021T143600Z
UID:18809-1571853600-1571860800@www.casacava.it
SUMMARY:Presentazione Mestiere Cinema Festival
DESCRIPTION:“MESTIERE CINEMA FESTIVAL” \nPresentazione rassegna cinematografica di film bulgari \n Casa Cava  \n Via San Pietro Barisano 47 \n Matera \n23 OTTOBRE 2019 \nIngresso/fine evento: dalle ore 18 alle ore 20 \nPartecipazione della delegazione degli Artisti Bulgari:\nStefan Dimitrov\, compositore “ UNA FOTO CON YUKI”\nNiki Iliev\, Regista e Attore “The REUNION- Rientro a Plovdiv”\nLuchezar Avramov\, Regista “ UNA FOTO CON YUKI”\nRuscen Vidinliev-Rushi\, Attore “ UNA FOTO CON YUKI”\nMarghita Gosheva\, Attrice\, “GLORY – non c’è tempo per gli onesti”\nGheorghi Toshev\, Regista “SEMPRE LIBERA- SONYA YONCHEVA” \nDocumentario/Musica 60 min.v.o.sott.it.\n“SEMPRE LIBERA- SONYA YONCHEVA” (2019)\nQ/A con ilregista Gheorghi Toshev \n  \nDal 23 al 27 ottobre si terrà a Matera Capitale Europea della Cultura 2019 la prima edizione del Mestiere Cinema Festival\, nato dalla collaborazione fra le due ECOC 2019\, Matera e Plovdiv\, organizzato dalla Fondazione Matera Basilicata 2019 in collaborazione con l’Istituto Bulgaro di Cultura. \nMestiere Cinema Festival\, da un’idea della regista bulgara Milena Kaneva\, punta a restituire spessore alle professionalità che sono coinvolte nella creazione dei Film e che contribuiscono alla nascita dei grandi capolavori della storia del Cinema. \nC’è una coralità di professioni e di mestieri dietro “la macchina da presa”: montatori\, costumisti\, set designer\, truccatori\, si tratta di un processo complesso fatto di ingranaggi delicati. E ‘questo che chiamiamo “Il Mestiere del Cinema”. Ed il “mestiere” che sarà raccontato nell’edizione 2019 del Festival è quello della Composizione musicale di SoundTrack e colonne sonore. \nScrivere musica per il cinema significa lavorare sul doppio binario della valorizzazione dell’opera cinematografica\, elaborando un progetto musicale che sia ad un tempo autonomo ed empatico rispetto alle immagini che accompagna. Il Festival fa parte di “Plotera Weeks\, Plovdiv and Matera together for an Open Future”\, il programma culturale congiunto fra Matera e Plovdiv\, le due capitali europee della cultura per il 2019. \nMestiere Cinema Festival porterà a Matera una rassegna di film bulgari\, selezionati dalla curatrice del Festival\, la regista Milena Kaneva\, che ha voluto sceglierli nella produzione cinematografica dal 2000 in poi\, per raccontare la rinascita della cinematografia bulgara nell’ultimo decennio\, e di cui saranno presenti registi e autori delle musiche. Il programma delle proiezioni consta di sette lungometraggi\, fra anteprime e film premiati presso prestigiosi festival internazionali. Mestiere Cinema Festival ospiterà l’anteprima italiana del film “The Reunion – Ritorno a Plovdiv” del 2019\, regia Nicky Iliev\, che sarà proiettato il 24 ottobre\, e si tratta di una co-produzione della Fondazione Plovdiv 2019. Fra le altre proiezioni\, si segnala “Ága” del 2018\, regia Milko Lazarov\, proiettato in chiusura del Festival del Cinema di Berlino 2018 e candidato dalla Bulgaria per la corsa agli Oscar del 2020; “Una Foto con Yuki” del 2019\, regia Luchezar Avramov\, con musiche del pluripremiato compositore bulgario Stefan Dimitrov. Il Festival darà spazio anche ai documentari: “Sempre Libera”\, che racconta la straordinaria carriera del celebre soprano Sonya Yoncheva\, “Amando Carmen” con Alexandrina Pendachanska – un’altra star della lirica dalla Bulgaria\, e “Boris Christoff – La Voce che Prega Dio per la Bulgaria” che svela la vita intima di uno dei più grandi bassi del secolo scorso. Si è scelto di dedicare questa “rassegna di documentari” ai cantanti\, perché a loro è toccato il ruolo di grandi “ambasciatori” della cultura bulgara in Italia\, e quest’anno si celebrano anche i 140 anni di relazioni diplomatiche fra Italia e Bulgaria.
URL:https://www.casacava.it/event/presentazione-mestiere-cinema-festival/
LOCATION:Casa Cava\, Via san Pietro Barisano\, 47\, Matera\, 75100\, Italia
CATEGORIES:Presentazione
ATTACH;FMTTYPE=image/jpeg:https://www.casacava.it/new/wp-content/uploads/2019/10/mestiere-cinema-festival.jpeg
END:VEVENT
END:VCALENDAR